BEGIN:VCALENDAR
VERSION:2.0
PRODID:-//MyWorldCupTime//World Cup 2026//EN
CALSCALE:GREGORIAN
METHOD:PUBLISH
X-WR-CALNAME:World Cup 2026 - Uzbekistan
X-WR-TIMEZONE:UTC
REFRESH-INTERVAL;VALUE=DURATION:PT6H
X-PUBLISHED-TTL:PT6H
BEGIN:VEVENT
UID:match-24@myworldcuptime.com
DTSTAMP:20260425T230805Z
DTSTART:20260618T020000Z
DTEND:20260618T040000Z
SUMMARY:Uzbekistan vs Colombia
DESCRIPTION:World Cup 2026 · Group K · Mexico City Stadium\, Mexico City\n\
 nhttps://myworldcuptime.com/teams/uzbekistan.html
LOCATION:Mexico City Stadium\, Mexico City
URL:https://myworldcuptime.com
STATUS:CONFIRMED
END:VEVENT
BEGIN:VEVENT
UID:match-45@myworldcuptime.com
DTSTAMP:20260425T230805Z
DTSTART:20260623T170000Z
DTEND:20260623T190000Z
SUMMARY:Portugal vs Uzbekistan
DESCRIPTION:World Cup 2026 · Group K · Houston Stadium\, Houston\n\nhttps:/
 /myworldcuptime.com/teams/uzbekistan.html
LOCATION:Houston Stadium\, Houston
URL:https://myworldcuptime.com
STATUS:CONFIRMED
END:VEVENT
BEGIN:VEVENT
UID:match-70@myworldcuptime.com
DTSTAMP:20260425T230805Z
DTSTART:20260627T233000Z
DTEND:20260628T013000Z
SUMMARY:DR Congo vs Uzbekistan
DESCRIPTION:World Cup 2026 · Group K · Atlanta Stadium\, Atlanta\n\nhttps:/
 /myworldcuptime.com/teams/uzbekistan.html
LOCATION:Atlanta Stadium\, Atlanta
URL:https://myworldcuptime.com
STATUS:CONFIRMED
END:VEVENT
END:VCALENDAR
