BEGIN:VCALENDAR
VERSION:2.0
PRODID:-//MyWorldCupTime//World Cup 2026//EN
CALSCALE:GREGORIAN
METHOD:PUBLISH
X-WR-CALNAME:World Cup 2026 - Uruguay
X-WR-TIMEZONE:UTC
REFRESH-INTERVAL;VALUE=DURATION:PT6H
X-PUBLISHED-TTL:PT6H
BEGIN:VEVENT
UID:match-15@myworldcuptime.com
DTSTAMP:20260425T230805Z
DTSTART:20260615T220000Z
DTEND:20260616T000000Z
SUMMARY:Saudi Arabia vs Uruguay
DESCRIPTION:World Cup 2026 · Group H · Miami Stadium\, Miami\n\nhttps://myw
 orldcuptime.com/teams/uruguay.html
LOCATION:Miami Stadium\, Miami
URL:https://myworldcuptime.com
STATUS:CONFIRMED
END:VEVENT
BEGIN:VEVENT
UID:match-39@myworldcuptime.com
DTSTAMP:20260425T230805Z
DTSTART:20260621T220000Z
DTEND:20260622T000000Z
SUMMARY:Uruguay vs Cape Verde
DESCRIPTION:World Cup 2026 · Group H · Miami Stadium\, Miami\n\nhttps://myw
 orldcuptime.com/teams/uruguay.html
LOCATION:Miami Stadium\, Miami
URL:https://myworldcuptime.com
STATUS:CONFIRMED
END:VEVENT
BEGIN:VEVENT
UID:match-64@myworldcuptime.com
DTSTAMP:20260425T230805Z
DTSTART:20260627T000000Z
DTEND:20260627T020000Z
SUMMARY:Uruguay vs Spain
DESCRIPTION:World Cup 2026 · Group H · Guadalajara Stadium\, Guadalajara\n\
 nhttps://myworldcuptime.com/teams/uruguay.html
LOCATION:Guadalajara Stadium\, Guadalajara
URL:https://myworldcuptime.com
STATUS:CONFIRMED
END:VEVENT
END:VCALENDAR
