BEGIN:VCALENDAR
VERSION:2.0
PRODID:-//MyWorldCupTime//World Cup 2026//EN
CALSCALE:GREGORIAN
METHOD:PUBLISH
X-WR-CALNAME:World Cup 2026 - Turkiye
X-WR-TIMEZONE:UTC
REFRESH-INTERVAL;VALUE=DURATION:PT6H
X-PUBLISHED-TTL:PT6H
BEGIN:VEVENT
UID:match-8@myworldcuptime.com
DTSTAMP:20260425T230805Z
DTSTART:20260614T040000Z
DTEND:20260614T060000Z
SUMMARY:Australia vs Turkiye
DESCRIPTION:World Cup 2026 · Group D · BC Place Vancouver\, Vancouver\n\nht
 tps://myworldcuptime.com/teams/turkiye.html
LOCATION:BC Place Vancouver\, Vancouver
URL:https://myworldcuptime.com
STATUS:CONFIRMED
END:VEVENT
BEGIN:VEVENT
UID:match-32@myworldcuptime.com
DTSTAMP:20260425T230805Z
DTSTART:20260620T030000Z
DTEND:20260620T050000Z
SUMMARY:Turkiye vs Paraguay
DESCRIPTION:World Cup 2026 · Group D · San Francisco Bay Area Stadium\, San
  Francisco Bay Area\n\nhttps://myworldcuptime.com/teams/turkiye.html
LOCATION:San Francisco Bay Area Stadium\, San Francisco Bay Area
URL:https://myworldcuptime.com
STATUS:CONFIRMED
END:VEVENT
BEGIN:VEVENT
UID:match-59@myworldcuptime.com
DTSTAMP:20260425T230805Z
DTSTART:20260626T020000Z
DTEND:20260626T040000Z
SUMMARY:Turkiye vs USA
DESCRIPTION:World Cup 2026 · Group D · Los Angeles Stadium\, Los Angeles\n\
 nhttps://myworldcuptime.com/teams/turkiye.html
LOCATION:Los Angeles Stadium\, Los Angeles
URL:https://myworldcuptime.com
STATUS:CONFIRMED
END:VEVENT
END:VCALENDAR
