BEGIN:VCALENDAR
VERSION:2.0
PRODID:-//MyWorldCupTime//World Cup 2026//EN
CALSCALE:GREGORIAN
METHOD:PUBLISH
X-WR-CALNAME:World Cup 2026 - Switzerland
X-WR-TIMEZONE:UTC
REFRESH-INTERVAL;VALUE=DURATION:PT6H
X-PUBLISHED-TTL:PT6H
BEGIN:VEVENT
UID:match-5@myworldcuptime.com
DTSTAMP:20260425T230805Z
DTSTART:20260613T190000Z
DTEND:20260613T210000Z
SUMMARY:Qatar vs Switzerland
DESCRIPTION:World Cup 2026 · Group B · San Francisco Bay Area Stadium\, San
  Francisco Bay Area\n\nhttps://myworldcuptime.com/teams/switzerland.html
LOCATION:San Francisco Bay Area Stadium\, San Francisco Bay Area
URL:https://myworldcuptime.com
STATUS:CONFIRMED
END:VEVENT
BEGIN:VEVENT
UID:match-26@myworldcuptime.com
DTSTAMP:20260425T230805Z
DTSTART:20260618T190000Z
DTEND:20260618T210000Z
SUMMARY:Switzerland vs Bosnia & Herzegovina
DESCRIPTION:World Cup 2026 · Group B · Los Angeles Stadium\, Los Angeles\n\
 nhttps://myworldcuptime.com/teams/switzerland.html
LOCATION:Los Angeles Stadium\, Los Angeles
URL:https://myworldcuptime.com
STATUS:CONFIRMED
END:VEVENT
BEGIN:VEVENT
UID:match-49@myworldcuptime.com
DTSTAMP:20260425T230805Z
DTSTART:20260624T190000Z
DTEND:20260624T210000Z
SUMMARY:Switzerland vs Canada
DESCRIPTION:World Cup 2026 · Group B · BC Place Vancouver\, Vancouver\n\nht
 tps://myworldcuptime.com/teams/switzerland.html
LOCATION:BC Place Vancouver\, Vancouver
URL:https://myworldcuptime.com
STATUS:CONFIRMED
END:VEVENT
END:VCALENDAR
