BEGIN:VCALENDAR
VERSION:2.0
PRODID:-//MyWorldCupTime//World Cup 2026//EN
CALSCALE:GREGORIAN
METHOD:PUBLISH
X-WR-CALNAME:World Cup 2026 - Sweden
X-WR-TIMEZONE:UTC
REFRESH-INTERVAL;VALUE=DURATION:PT6H
X-PUBLISHED-TTL:PT6H
BEGIN:VEVENT
UID:match-12@myworldcuptime.com
DTSTAMP:20260425T230805Z
DTSTART:20260615T020000Z
DTEND:20260615T040000Z
SUMMARY:Sweden vs Tunisia
DESCRIPTION:World Cup 2026 · Group F · Monterrey Stadium\, Monterrey\n\nhtt
 ps://myworldcuptime.com/teams/sweden.html
LOCATION:Monterrey Stadium\, Monterrey
URL:https://myworldcuptime.com
STATUS:CONFIRMED
END:VEVENT
BEGIN:VEVENT
UID:match-33@myworldcuptime.com
DTSTAMP:20260425T230805Z
DTSTART:20260620T170000Z
DTEND:20260620T190000Z
SUMMARY:Netherlands vs Sweden
DESCRIPTION:World Cup 2026 · Group F · Houston Stadium\, Houston\n\nhttps:/
 /myworldcuptime.com/teams/sweden.html
LOCATION:Houston Stadium\, Houston
URL:https://myworldcuptime.com
STATUS:CONFIRMED
END:VEVENT
BEGIN:VEVENT
UID:match-57@myworldcuptime.com
DTSTAMP:20260425T230805Z
DTSTART:20260625T230000Z
DTEND:20260626T010000Z
SUMMARY:Japan vs Sweden
DESCRIPTION:World Cup 2026 · Group F · Dallas Stadium\, Dallas\n\nhttps://m
 yworldcuptime.com/teams/sweden.html
LOCATION:Dallas Stadium\, Dallas
URL:https://myworldcuptime.com
STATUS:CONFIRMED
END:VEVENT
END:VCALENDAR
