BEGIN:VCALENDAR
VERSION:2.0
PRODID:-//MyWorldCupTime//World Cup 2026//EN
CALSCALE:GREGORIAN
METHOD:PUBLISH
X-WR-CALNAME:World Cup 2026 - Spain
X-WR-TIMEZONE:UTC
REFRESH-INTERVAL;VALUE=DURATION:PT6H
X-PUBLISHED-TTL:PT6H
BEGIN:VEVENT
UID:match-13@myworldcuptime.com
DTSTAMP:20260425T230805Z
DTSTART:20260615T160000Z
DTEND:20260615T180000Z
SUMMARY:Spain vs Cape Verde
DESCRIPTION:World Cup 2026 · Group H · Atlanta Stadium\, Atlanta\n\nhttps:/
 /myworldcuptime.com/teams/spain.html
LOCATION:Atlanta Stadium\, Atlanta
URL:https://myworldcuptime.com
STATUS:CONFIRMED
END:VEVENT
BEGIN:VEVENT
UID:match-37@myworldcuptime.com
DTSTAMP:20260425T230805Z
DTSTART:20260621T160000Z
DTEND:20260621T180000Z
SUMMARY:Spain vs Saudi Arabia
DESCRIPTION:World Cup 2026 · Group H · Atlanta Stadium\, Atlanta\n\nhttps:/
 /myworldcuptime.com/teams/spain.html
LOCATION:Atlanta Stadium\, Atlanta
URL:https://myworldcuptime.com
STATUS:CONFIRMED
END:VEVENT
BEGIN:VEVENT
UID:match-64@myworldcuptime.com
DTSTAMP:20260425T230805Z
DTSTART:20260627T000000Z
DTEND:20260627T020000Z
SUMMARY:Uruguay vs Spain
DESCRIPTION:World Cup 2026 · Group H · Guadalajara Stadium\, Guadalajara\n\
 nhttps://myworldcuptime.com/teams/spain.html
LOCATION:Guadalajara Stadium\, Guadalajara
URL:https://myworldcuptime.com
STATUS:CONFIRMED
END:VEVENT
END:VCALENDAR
