BEGIN:VCALENDAR
VERSION:2.0
PRODID:-//MyWorldCupTime//World Cup 2026//EN
CALSCALE:GREGORIAN
METHOD:PUBLISH
X-WR-CALNAME:World Cup 2026 - Senegal
X-WR-TIMEZONE:UTC
REFRESH-INTERVAL;VALUE=DURATION:PT6H
X-PUBLISHED-TTL:PT6H
BEGIN:VEVENT
UID:match-17@myworldcuptime.com
DTSTAMP:20260425T230805Z
DTSTART:20260616T190000Z
DTEND:20260616T210000Z
SUMMARY:France vs Senegal
DESCRIPTION:World Cup 2026 · Group I · New York/New Jersey Stadium\, New Yo
 rk\n\nhttps://myworldcuptime.com/teams/senegal.html
LOCATION:New York/New Jersey Stadium\, New York
URL:https://myworldcuptime.com
STATUS:CONFIRMED
END:VEVENT
BEGIN:VEVENT
UID:match-43@myworldcuptime.com
DTSTAMP:20260425T230805Z
DTSTART:20260623T000000Z
DTEND:20260623T020000Z
SUMMARY:Norway vs Senegal
DESCRIPTION:World Cup 2026 · Group I · New York/New Jersey Stadium\, New Yo
 rk\n\nhttps://myworldcuptime.com/teams/senegal.html
LOCATION:New York/New Jersey Stadium\, New York
URL:https://myworldcuptime.com
STATUS:CONFIRMED
END:VEVENT
BEGIN:VEVENT
UID:match-62@myworldcuptime.com
DTSTAMP:20260425T230805Z
DTSTART:20260626T190000Z
DTEND:20260626T210000Z
SUMMARY:Senegal vs Iraq
DESCRIPTION:World Cup 2026 · Group I · Toronto Stadium\, Toronto\n\nhttps:/
 /myworldcuptime.com/teams/senegal.html
LOCATION:Toronto Stadium\, Toronto
URL:https://myworldcuptime.com
STATUS:CONFIRMED
END:VEVENT
END:VCALENDAR
