BEGIN:VCALENDAR
VERSION:2.0
PRODID:-//MyWorldCupTime//World Cup 2026//EN
CALSCALE:GREGORIAN
METHOD:PUBLISH
X-WR-CALNAME:World Cup 2026 - Paraguay
X-WR-TIMEZONE:UTC
REFRESH-INTERVAL;VALUE=DURATION:PT6H
X-PUBLISHED-TTL:PT6H
BEGIN:VEVENT
UID:match-4@myworldcuptime.com
DTSTAMP:20260425T230805Z
DTSTART:20260613T010000Z
DTEND:20260613T030000Z
SUMMARY:USA vs Paraguay
DESCRIPTION:World Cup 2026 · Group D · Los Angeles Stadium\, Los Angeles\n\
 nhttps://myworldcuptime.com/teams/paraguay.html
LOCATION:Los Angeles Stadium\, Los Angeles
URL:https://myworldcuptime.com
STATUS:CONFIRMED
END:VEVENT
BEGIN:VEVENT
UID:match-32@myworldcuptime.com
DTSTAMP:20260425T230805Z
DTSTART:20260620T030000Z
DTEND:20260620T050000Z
SUMMARY:Turkiye vs Paraguay
DESCRIPTION:World Cup 2026 · Group D · San Francisco Bay Area Stadium\, San
  Francisco Bay Area\n\nhttps://myworldcuptime.com/teams/paraguay.html
LOCATION:San Francisco Bay Area Stadium\, San Francisco Bay Area
URL:https://myworldcuptime.com
STATUS:CONFIRMED
END:VEVENT
BEGIN:VEVENT
UID:match-60@myworldcuptime.com
DTSTAMP:20260425T230805Z
DTSTART:20260626T020000Z
DTEND:20260626T040000Z
SUMMARY:Paraguay vs Australia
DESCRIPTION:World Cup 2026 · Group D · San Francisco Bay Area Stadium\, San
  Francisco Bay Area\n\nhttps://myworldcuptime.com/teams/paraguay.html
LOCATION:San Francisco Bay Area Stadium\, San Francisco Bay Area
URL:https://myworldcuptime.com
STATUS:CONFIRMED
END:VEVENT
END:VCALENDAR
