BEGIN:VCALENDAR
VERSION:2.0
PRODID:-//MyWorldCupTime//World Cup 2026//EN
CALSCALE:GREGORIAN
METHOD:PUBLISH
X-WR-CALNAME:World Cup 2026 - Panama
X-WR-TIMEZONE:UTC
REFRESH-INTERVAL;VALUE=DURATION:PT6H
X-PUBLISHED-TTL:PT6H
BEGIN:VEVENT
UID:match-23@myworldcuptime.com
DTSTAMP:20260425T230805Z
DTSTART:20260617T230000Z
DTEND:20260618T010000Z
SUMMARY:Ghana vs Panama
DESCRIPTION:World Cup 2026 · Group L · Toronto Stadium\, Toronto\n\nhttps:/
 /myworldcuptime.com/teams/panama.html
LOCATION:Toronto Stadium\, Toronto
URL:https://myworldcuptime.com
STATUS:CONFIRMED
END:VEVENT
BEGIN:VEVENT
UID:match-47@myworldcuptime.com
DTSTAMP:20260425T230805Z
DTSTART:20260623T230000Z
DTEND:20260624T010000Z
SUMMARY:Panama vs Croatia
DESCRIPTION:World Cup 2026 · Group L · Toronto Stadium\, Toronto\n\nhttps:/
 /myworldcuptime.com/teams/panama.html
LOCATION:Toronto Stadium\, Toronto
URL:https://myworldcuptime.com
STATUS:CONFIRMED
END:VEVENT
BEGIN:VEVENT
UID:match-67@myworldcuptime.com
DTSTAMP:20260425T230805Z
DTSTART:20260627T210000Z
DTEND:20260627T230000Z
SUMMARY:Panama vs England
DESCRIPTION:World Cup 2026 · Group L · New York/New Jersey Stadium\, New Yo
 rk\n\nhttps://myworldcuptime.com/teams/panama.html
LOCATION:New York/New Jersey Stadium\, New York
URL:https://myworldcuptime.com
STATUS:CONFIRMED
END:VEVENT
END:VCALENDAR
