BEGIN:VCALENDAR
VERSION:2.0
PRODID:-//MyWorldCupTime//World Cup 2026//EN
CALSCALE:GREGORIAN
METHOD:PUBLISH
X-WR-CALNAME:World Cup 2026 - Morocco
X-WR-TIMEZONE:UTC
REFRESH-INTERVAL;VALUE=DURATION:PT6H
X-PUBLISHED-TTL:PT6H
BEGIN:VEVENT
UID:match-6@myworldcuptime.com
DTSTAMP:20260425T230805Z
DTSTART:20260613T220000Z
DTEND:20260614T000000Z
SUMMARY:Brazil vs Morocco
DESCRIPTION:World Cup 2026 · Group C · New York/New Jersey Stadium\, New Yo
 rk\n\nhttps://myworldcuptime.com/teams/morocco.html
LOCATION:New York/New Jersey Stadium\, New York
URL:https://myworldcuptime.com
STATUS:CONFIRMED
END:VEVENT
BEGIN:VEVENT
UID:match-30@myworldcuptime.com
DTSTAMP:20260425T230805Z
DTSTART:20260619T220000Z
DTEND:20260620T000000Z
SUMMARY:Scotland vs Morocco
DESCRIPTION:World Cup 2026 · Group C · Boston Stadium\, Boston\n\nhttps://m
 yworldcuptime.com/teams/morocco.html
LOCATION:Boston Stadium\, Boston
URL:https://myworldcuptime.com
STATUS:CONFIRMED
END:VEVENT
BEGIN:VEVENT
UID:match-52@myworldcuptime.com
DTSTAMP:20260425T230805Z
DTSTART:20260624T220000Z
DTEND:20260625T000000Z
SUMMARY:Morocco vs Haiti
DESCRIPTION:World Cup 2026 · Group C · Atlanta Stadium\, Atlanta\n\nhttps:/
 /myworldcuptime.com/teams/morocco.html
LOCATION:Atlanta Stadium\, Atlanta
URL:https://myworldcuptime.com
STATUS:CONFIRMED
END:VEVENT
END:VCALENDAR
