BEGIN:VCALENDAR
VERSION:2.0
PRODID:-//MyWorldCupTime//World Cup 2026//EN
CALSCALE:GREGORIAN
METHOD:PUBLISH
X-WR-CALNAME:World Cup 2026 - Mexico
X-WR-TIMEZONE:UTC
REFRESH-INTERVAL;VALUE=DURATION:PT6H
X-PUBLISHED-TTL:PT6H
BEGIN:VEVENT
UID:match-1@myworldcuptime.com
DTSTAMP:20260425T230805Z
DTSTART:20260611T190000Z
DTEND:20260611T210000Z
SUMMARY:Mexico vs South Africa
DESCRIPTION:World Cup 2026 · Group A · Mexico City Stadium\, Mexico City\n\
 nhttps://myworldcuptime.com/teams/mexico.html
LOCATION:Mexico City Stadium\, Mexico City
URL:https://myworldcuptime.com
STATUS:CONFIRMED
END:VEVENT
BEGIN:VEVENT
UID:match-28@myworldcuptime.com
DTSTAMP:20260425T230805Z
DTSTART:20260619T010000Z
DTEND:20260619T030000Z
SUMMARY:Mexico vs South Korea
DESCRIPTION:World Cup 2026 · Group A · Guadalajara Stadium\, Guadalajara\n\
 nhttps://myworldcuptime.com/teams/mexico.html
LOCATION:Guadalajara Stadium\, Guadalajara
URL:https://myworldcuptime.com
STATUS:CONFIRMED
END:VEVENT
BEGIN:VEVENT
UID:match-53@myworldcuptime.com
DTSTAMP:20260425T230805Z
DTSTART:20260625T010000Z
DTEND:20260625T030000Z
SUMMARY:Czechia vs Mexico
DESCRIPTION:World Cup 2026 · Group A · Mexico City Stadium\, Mexico City\n\
 nhttps://myworldcuptime.com/teams/mexico.html
LOCATION:Mexico City Stadium\, Mexico City
URL:https://myworldcuptime.com
STATUS:CONFIRMED
END:VEVENT
END:VCALENDAR
