BEGIN:VCALENDAR
VERSION:2.0
PRODID:-//MyWorldCupTime//World Cup 2026//EN
CALSCALE:GREGORIAN
METHOD:PUBLISH
X-WR-CALNAME:World Cup 2026 - Jordan
X-WR-TIMEZONE:UTC
REFRESH-INTERVAL;VALUE=DURATION:PT6H
X-PUBLISHED-TTL:PT6H
BEGIN:VEVENT
UID:match-20@myworldcuptime.com
DTSTAMP:20260425T230805Z
DTSTART:20260617T040000Z
DTEND:20260617T060000Z
SUMMARY:Austria vs Jordan
DESCRIPTION:World Cup 2026 · Group J · San Francisco Bay Area Stadium\, San
  Francisco Bay Area\n\nhttps://myworldcuptime.com/teams/jordan.html
LOCATION:San Francisco Bay Area Stadium\, San Francisco Bay Area
URL:https://myworldcuptime.com
STATUS:CONFIRMED
END:VEVENT
BEGIN:VEVENT
UID:match-44@myworldcuptime.com
DTSTAMP:20260425T230805Z
DTSTART:20260623T030000Z
DTEND:20260623T050000Z
SUMMARY:Jordan vs Algeria
DESCRIPTION:World Cup 2026 · Group J · San Francisco Bay Area Stadium\, San
  Francisco Bay Area\n\nhttps://myworldcuptime.com/teams/jordan.html
LOCATION:San Francisco Bay Area Stadium\, San Francisco Bay Area
URL:https://myworldcuptime.com
STATUS:CONFIRMED
END:VEVENT
BEGIN:VEVENT
UID:match-72@myworldcuptime.com
DTSTAMP:20260425T230805Z
DTSTART:20260628T020000Z
DTEND:20260628T040000Z
SUMMARY:Jordan vs Argentina
DESCRIPTION:World Cup 2026 · Group J · Dallas Stadium\, Dallas\n\nhttps://m
 yworldcuptime.com/teams/jordan.html
LOCATION:Dallas Stadium\, Dallas
URL:https://myworldcuptime.com
STATUS:CONFIRMED
END:VEVENT
END:VCALENDAR
