BEGIN:VCALENDAR
VERSION:2.0
PRODID:-//MyWorldCupTime//World Cup 2026//EN
CALSCALE:GREGORIAN
METHOD:PUBLISH
X-WR-CALNAME:World Cup 2026 - Japan
X-WR-TIMEZONE:UTC
REFRESH-INTERVAL;VALUE=DURATION:PT6H
X-PUBLISHED-TTL:PT6H
BEGIN:VEVENT
UID:match-10@myworldcuptime.com
DTSTAMP:20260425T230805Z
DTSTART:20260614T200000Z
DTEND:20260614T220000Z
SUMMARY:Netherlands vs Japan
DESCRIPTION:World Cup 2026 · Group F · Dallas Stadium\, Dallas\n\nhttps://m
 yworldcuptime.com/teams/japan.html
LOCATION:Dallas Stadium\, Dallas
URL:https://myworldcuptime.com
STATUS:CONFIRMED
END:VEVENT
BEGIN:VEVENT
UID:match-36@myworldcuptime.com
DTSTAMP:20260425T230805Z
DTSTART:20260621T040000Z
DTEND:20260621T060000Z
SUMMARY:Tunisia vs Japan
DESCRIPTION:World Cup 2026 · Group F · Monterrey Stadium\, Monterrey\n\nhtt
 ps://myworldcuptime.com/teams/japan.html
LOCATION:Monterrey Stadium\, Monterrey
URL:https://myworldcuptime.com
STATUS:CONFIRMED
END:VEVENT
BEGIN:VEVENT
UID:match-57@myworldcuptime.com
DTSTAMP:20260425T230805Z
DTSTART:20260625T230000Z
DTEND:20260626T010000Z
SUMMARY:Japan vs Sweden
DESCRIPTION:World Cup 2026 · Group F · Dallas Stadium\, Dallas\n\nhttps://m
 yworldcuptime.com/teams/japan.html
LOCATION:Dallas Stadium\, Dallas
URL:https://myworldcuptime.com
STATUS:CONFIRMED
END:VEVENT
END:VCALENDAR
