BEGIN:VCALENDAR
VERSION:2.0
PRODID:-//MyWorldCupTime//World Cup 2026//EN
CALSCALE:GREGORIAN
METHOD:PUBLISH
X-WR-CALNAME:World Cup 2026 - Ivory Coast
X-WR-TIMEZONE:UTC
REFRESH-INTERVAL;VALUE=DURATION:PT6H
X-PUBLISHED-TTL:PT6H
BEGIN:VEVENT
UID:match-11@myworldcuptime.com
DTSTAMP:20260425T230805Z
DTSTART:20260614T230000Z
DTEND:20260615T010000Z
SUMMARY:Ivory Coast vs Ecuador
DESCRIPTION:World Cup 2026 · Group E · Philadelphia Stadium\, Philadelphia\
 n\nhttps://myworldcuptime.com/teams/ivory-coast.html
LOCATION:Philadelphia Stadium\, Philadelphia
URL:https://myworldcuptime.com
STATUS:CONFIRMED
END:VEVENT
BEGIN:VEVENT
UID:match-34@myworldcuptime.com
DTSTAMP:20260425T230805Z
DTSTART:20260620T200000Z
DTEND:20260620T220000Z
SUMMARY:Germany vs Ivory Coast
DESCRIPTION:World Cup 2026 · Group E · Toronto Stadium\, Toronto\n\nhttps:/
 /myworldcuptime.com/teams/ivory-coast.html
LOCATION:Toronto Stadium\, Toronto
URL:https://myworldcuptime.com
STATUS:CONFIRMED
END:VEVENT
BEGIN:VEVENT
UID:match-55@myworldcuptime.com
DTSTAMP:20260425T230805Z
DTSTART:20260625T200000Z
DTEND:20260625T220000Z
SUMMARY:Curacao vs Ivory Coast
DESCRIPTION:World Cup 2026 · Group E · Philadelphia Stadium\, Philadelphia\
 n\nhttps://myworldcuptime.com/teams/ivory-coast.html
LOCATION:Philadelphia Stadium\, Philadelphia
URL:https://myworldcuptime.com
STATUS:CONFIRMED
END:VEVENT
END:VCALENDAR
