BEGIN:VCALENDAR
VERSION:2.0
PRODID:-//MyWorldCupTime//World Cup 2026//EN
CALSCALE:GREGORIAN
METHOD:PUBLISH
X-WR-CALNAME:World Cup 2026 - Iraq
X-WR-TIMEZONE:UTC
REFRESH-INTERVAL;VALUE=DURATION:PT6H
X-PUBLISHED-TTL:PT6H
BEGIN:VEVENT
UID:match-18@myworldcuptime.com
DTSTAMP:20260425T230805Z
DTSTART:20260616T220000Z
DTEND:20260617T000000Z
SUMMARY:Iraq vs Norway
DESCRIPTION:World Cup 2026 · Group I · Boston Stadium\, Boston\n\nhttps://m
 yworldcuptime.com/teams/iraq.html
LOCATION:Boston Stadium\, Boston
URL:https://myworldcuptime.com
STATUS:CONFIRMED
END:VEVENT
BEGIN:VEVENT
UID:match-42@myworldcuptime.com
DTSTAMP:20260425T230805Z
DTSTART:20260622T210000Z
DTEND:20260622T230000Z
SUMMARY:France vs Iraq
DESCRIPTION:World Cup 2026 · Group I · Philadelphia Stadium\, Philadelphia\
 n\nhttps://myworldcuptime.com/teams/iraq.html
LOCATION:Philadelphia Stadium\, Philadelphia
URL:https://myworldcuptime.com
STATUS:CONFIRMED
END:VEVENT
BEGIN:VEVENT
UID:match-62@myworldcuptime.com
DTSTAMP:20260425T230805Z
DTSTART:20260626T190000Z
DTEND:20260626T210000Z
SUMMARY:Senegal vs Iraq
DESCRIPTION:World Cup 2026 · Group I · Toronto Stadium\, Toronto\n\nhttps:/
 /myworldcuptime.com/teams/iraq.html
LOCATION:Toronto Stadium\, Toronto
URL:https://myworldcuptime.com
STATUS:CONFIRMED
END:VEVENT
END:VCALENDAR
