BEGIN:VCALENDAR
VERSION:2.0
PRODID:-//MyWorldCupTime//World Cup 2026//EN
CALSCALE:GREGORIAN
METHOD:PUBLISH
X-WR-CALNAME:World Cup 2026 - Iran
X-WR-TIMEZONE:UTC
REFRESH-INTERVAL;VALUE=DURATION:PT6H
X-PUBLISHED-TTL:PT6H
BEGIN:VEVENT
UID:match-16@myworldcuptime.com
DTSTAMP:20260425T230805Z
DTSTART:20260616T010000Z
DTEND:20260616T030000Z
SUMMARY:Iran vs New Zealand
DESCRIPTION:World Cup 2026 · Group G · Los Angeles Stadium\, Los Angeles\n\
 nhttps://myworldcuptime.com/teams/iran.html
LOCATION:Los Angeles Stadium\, Los Angeles
URL:https://myworldcuptime.com
STATUS:CONFIRMED
END:VEVENT
BEGIN:VEVENT
UID:match-38@myworldcuptime.com
DTSTAMP:20260425T230805Z
DTSTART:20260621T190000Z
DTEND:20260621T210000Z
SUMMARY:Belgium vs Iran
DESCRIPTION:World Cup 2026 · Group G · Los Angeles Stadium\, Los Angeles\n\
 nhttps://myworldcuptime.com/teams/iran.html
LOCATION:Los Angeles Stadium\, Los Angeles
URL:https://myworldcuptime.com
STATUS:CONFIRMED
END:VEVENT
BEGIN:VEVENT
UID:match-65@myworldcuptime.com
DTSTAMP:20260425T230805Z
DTSTART:20260627T030000Z
DTEND:20260627T050000Z
SUMMARY:Egypt vs Iran
DESCRIPTION:World Cup 2026 · Group G · Seattle Stadium\, Seattle\n\nhttps:/
 /myworldcuptime.com/teams/iran.html
LOCATION:Seattle Stadium\, Seattle
URL:https://myworldcuptime.com
STATUS:CONFIRMED
END:VEVENT
END:VCALENDAR
