BEGIN:VCALENDAR
VERSION:2.0
PRODID:-//MyWorldCupTime//World Cup 2026//EN
CALSCALE:GREGORIAN
METHOD:PUBLISH
X-WR-CALNAME:World Cup 2026 - Haiti
X-WR-TIMEZONE:UTC
REFRESH-INTERVAL;VALUE=DURATION:PT6H
X-PUBLISHED-TTL:PT6H
BEGIN:VEVENT
UID:match-7@myworldcuptime.com
DTSTAMP:20260425T230805Z
DTSTART:20260614T010000Z
DTEND:20260614T030000Z
SUMMARY:Haiti vs Scotland
DESCRIPTION:World Cup 2026 · Group C · Boston Stadium\, Boston\n\nhttps://m
 yworldcuptime.com/teams/haiti.html
LOCATION:Boston Stadium\, Boston
URL:https://myworldcuptime.com
STATUS:CONFIRMED
END:VEVENT
BEGIN:VEVENT
UID:match-31@myworldcuptime.com
DTSTAMP:20260425T230805Z
DTSTART:20260620T003000Z
DTEND:20260620T023000Z
SUMMARY:Brazil vs Haiti
DESCRIPTION:World Cup 2026 · Group C · Philadelphia Stadium\, Philadelphia\
 n\nhttps://myworldcuptime.com/teams/haiti.html
LOCATION:Philadelphia Stadium\, Philadelphia
URL:https://myworldcuptime.com
STATUS:CONFIRMED
END:VEVENT
BEGIN:VEVENT
UID:match-52@myworldcuptime.com
DTSTAMP:20260425T230805Z
DTSTART:20260624T220000Z
DTEND:20260625T000000Z
SUMMARY:Morocco vs Haiti
DESCRIPTION:World Cup 2026 · Group C · Atlanta Stadium\, Atlanta\n\nhttps:/
 /myworldcuptime.com/teams/haiti.html
LOCATION:Atlanta Stadium\, Atlanta
URL:https://myworldcuptime.com
STATUS:CONFIRMED
END:VEVENT
END:VCALENDAR
