BEGIN:VCALENDAR
VERSION:2.0
PRODID:-//MyWorldCupTime//World Cup 2026//EN
CALSCALE:GREGORIAN
METHOD:PUBLISH
X-WR-CALNAME:World Cup 2026 - Egypt
X-WR-TIMEZONE:UTC
REFRESH-INTERVAL;VALUE=DURATION:PT6H
X-PUBLISHED-TTL:PT6H
BEGIN:VEVENT
UID:match-14@myworldcuptime.com
DTSTAMP:20260425T230805Z
DTSTART:20260615T190000Z
DTEND:20260615T210000Z
SUMMARY:Belgium vs Egypt
DESCRIPTION:World Cup 2026 · Group G · Seattle Stadium\, Seattle\n\nhttps:/
 /myworldcuptime.com/teams/egypt.html
LOCATION:Seattle Stadium\, Seattle
URL:https://myworldcuptime.com
STATUS:CONFIRMED
END:VEVENT
BEGIN:VEVENT
UID:match-40@myworldcuptime.com
DTSTAMP:20260425T230805Z
DTSTART:20260622T010000Z
DTEND:20260622T030000Z
SUMMARY:New Zealand vs Egypt
DESCRIPTION:World Cup 2026 · Group G · BC Place Vancouver\, Vancouver\n\nht
 tps://myworldcuptime.com/teams/egypt.html
LOCATION:BC Place Vancouver\, Vancouver
URL:https://myworldcuptime.com
STATUS:CONFIRMED
END:VEVENT
BEGIN:VEVENT
UID:match-65@myworldcuptime.com
DTSTAMP:20260425T230805Z
DTSTART:20260627T030000Z
DTEND:20260627T050000Z
SUMMARY:Egypt vs Iran
DESCRIPTION:World Cup 2026 · Group G · Seattle Stadium\, Seattle\n\nhttps:/
 /myworldcuptime.com/teams/egypt.html
LOCATION:Seattle Stadium\, Seattle
URL:https://myworldcuptime.com
STATUS:CONFIRMED
END:VEVENT
END:VCALENDAR
