BEGIN:VCALENDAR
VERSION:2.0
PRODID:-//MyWorldCupTime//World Cup 2026//EN
CALSCALE:GREGORIAN
METHOD:PUBLISH
X-WR-CALNAME:World Cup 2026 - Czechia
X-WR-TIMEZONE:UTC
REFRESH-INTERVAL;VALUE=DURATION:PT6H
X-PUBLISHED-TTL:PT6H
BEGIN:VEVENT
UID:match-2@myworldcuptime.com
DTSTAMP:20260425T230805Z
DTSTART:20260612T020000Z
DTEND:20260612T040000Z
SUMMARY:South Korea vs Czechia
DESCRIPTION:World Cup 2026 · Group A · Guadalajara Stadium\, Guadalajara\n\
 nhttps://myworldcuptime.com/teams/czechia.html
LOCATION:Guadalajara Stadium\, Guadalajara
URL:https://myworldcuptime.com
STATUS:CONFIRMED
END:VEVENT
BEGIN:VEVENT
UID:match-25@myworldcuptime.com
DTSTAMP:20260425T230805Z
DTSTART:20260618T160000Z
DTEND:20260618T180000Z
SUMMARY:Czechia vs South Africa
DESCRIPTION:World Cup 2026 · Group A · Atlanta Stadium\, Atlanta\n\nhttps:/
 /myworldcuptime.com/teams/czechia.html
LOCATION:Atlanta Stadium\, Atlanta
URL:https://myworldcuptime.com
STATUS:CONFIRMED
END:VEVENT
BEGIN:VEVENT
UID:match-53@myworldcuptime.com
DTSTAMP:20260425T230805Z
DTSTART:20260625T010000Z
DTEND:20260625T030000Z
SUMMARY:Czechia vs Mexico
DESCRIPTION:World Cup 2026 · Group A · Mexico City Stadium\, Mexico City\n\
 nhttps://myworldcuptime.com/teams/czechia.html
LOCATION:Mexico City Stadium\, Mexico City
URL:https://myworldcuptime.com
STATUS:CONFIRMED
END:VEVENT
END:VCALENDAR
