BEGIN:VCALENDAR
VERSION:2.0
PRODID:-//MyWorldCupTime//World Cup 2026//EN
CALSCALE:GREGORIAN
METHOD:PUBLISH
X-WR-CALNAME:World Cup 2026 - Curacao
X-WR-TIMEZONE:UTC
REFRESH-INTERVAL;VALUE=DURATION:PT6H
X-PUBLISHED-TTL:PT6H
BEGIN:VEVENT
UID:match-9@myworldcuptime.com
DTSTAMP:20260425T230805Z
DTSTART:20260614T170000Z
DTEND:20260614T190000Z
SUMMARY:Germany vs Curacao
DESCRIPTION:World Cup 2026 · Group E · Houston Stadium\, Houston\n\nhttps:/
 /myworldcuptime.com/teams/curacao.html
LOCATION:Houston Stadium\, Houston
URL:https://myworldcuptime.com
STATUS:CONFIRMED
END:VEVENT
BEGIN:VEVENT
UID:match-35@myworldcuptime.com
DTSTAMP:20260425T230805Z
DTSTART:20260621T000000Z
DTEND:20260621T020000Z
SUMMARY:Ecuador vs Curacao
DESCRIPTION:World Cup 2026 · Group E · Kansas City Stadium\, Kansas City\n\
 nhttps://myworldcuptime.com/teams/curacao.html
LOCATION:Kansas City Stadium\, Kansas City
URL:https://myworldcuptime.com
STATUS:CONFIRMED
END:VEVENT
BEGIN:VEVENT
UID:match-55@myworldcuptime.com
DTSTAMP:20260425T230805Z
DTSTART:20260625T200000Z
DTEND:20260625T220000Z
SUMMARY:Curacao vs Ivory Coast
DESCRIPTION:World Cup 2026 · Group E · Philadelphia Stadium\, Philadelphia\
 n\nhttps://myworldcuptime.com/teams/curacao.html
LOCATION:Philadelphia Stadium\, Philadelphia
URL:https://myworldcuptime.com
STATUS:CONFIRMED
END:VEVENT
END:VCALENDAR
