BEGIN:VCALENDAR
VERSION:2.0
PRODID:-//MyWorldCupTime//World Cup 2026//EN
CALSCALE:GREGORIAN
METHOD:PUBLISH
X-WR-CALNAME:World Cup 2026 - Croatia
X-WR-TIMEZONE:UTC
REFRESH-INTERVAL;VALUE=DURATION:PT6H
X-PUBLISHED-TTL:PT6H
BEGIN:VEVENT
UID:match-22@myworldcuptime.com
DTSTAMP:20260425T230805Z
DTSTART:20260617T200000Z
DTEND:20260617T220000Z
SUMMARY:England vs Croatia
DESCRIPTION:World Cup 2026 · Group L · Dallas Stadium\, Dallas\n\nhttps://m
 yworldcuptime.com/teams/croatia.html
LOCATION:Dallas Stadium\, Dallas
URL:https://myworldcuptime.com
STATUS:CONFIRMED
END:VEVENT
BEGIN:VEVENT
UID:match-47@myworldcuptime.com
DTSTAMP:20260425T230805Z
DTSTART:20260623T230000Z
DTEND:20260624T010000Z
SUMMARY:Panama vs Croatia
DESCRIPTION:World Cup 2026 · Group L · Toronto Stadium\, Toronto\n\nhttps:/
 /myworldcuptime.com/teams/croatia.html
LOCATION:Toronto Stadium\, Toronto
URL:https://myworldcuptime.com
STATUS:CONFIRMED
END:VEVENT
BEGIN:VEVENT
UID:match-68@myworldcuptime.com
DTSTAMP:20260425T230805Z
DTSTART:20260627T210000Z
DTEND:20260627T230000Z
SUMMARY:Croatia vs Ghana
DESCRIPTION:World Cup 2026 · Group L · Philadelphia Stadium\, Philadelphia\
 n\nhttps://myworldcuptime.com/teams/croatia.html
LOCATION:Philadelphia Stadium\, Philadelphia
URL:https://myworldcuptime.com
STATUS:CONFIRMED
END:VEVENT
END:VCALENDAR
