BEGIN:VCALENDAR
VERSION:2.0
PRODID:-//MyWorldCupTime//World Cup 2026//EN
CALSCALE:GREGORIAN
METHOD:PUBLISH
X-WR-CALNAME:World Cup 2026 - Colombia
X-WR-TIMEZONE:UTC
REFRESH-INTERVAL;VALUE=DURATION:PT6H
X-PUBLISHED-TTL:PT6H
BEGIN:VEVENT
UID:match-24@myworldcuptime.com
DTSTAMP:20260425T230805Z
DTSTART:20260618T020000Z
DTEND:20260618T040000Z
SUMMARY:Uzbekistan vs Colombia
DESCRIPTION:World Cup 2026 · Group K · Mexico City Stadium\, Mexico City\n\
 nhttps://myworldcuptime.com/teams/colombia.html
LOCATION:Mexico City Stadium\, Mexico City
URL:https://myworldcuptime.com
STATUS:CONFIRMED
END:VEVENT
BEGIN:VEVENT
UID:match-48@myworldcuptime.com
DTSTAMP:20260425T230805Z
DTSTART:20260624T020000Z
DTEND:20260624T040000Z
SUMMARY:Colombia vs DR Congo
DESCRIPTION:World Cup 2026 · Group K · Guadalajara Stadium\, Guadalajara\n\
 nhttps://myworldcuptime.com/teams/colombia.html
LOCATION:Guadalajara Stadium\, Guadalajara
URL:https://myworldcuptime.com
STATUS:CONFIRMED
END:VEVENT
BEGIN:VEVENT
UID:match-69@myworldcuptime.com
DTSTAMP:20260425T230805Z
DTSTART:20260627T233000Z
DTEND:20260628T013000Z
SUMMARY:Colombia vs Portugal
DESCRIPTION:World Cup 2026 · Group K · Miami Stadium\, Miami\n\nhttps://myw
 orldcuptime.com/teams/colombia.html
LOCATION:Miami Stadium\, Miami
URL:https://myworldcuptime.com
STATUS:CONFIRMED
END:VEVENT
END:VCALENDAR
