BEGIN:VCALENDAR
VERSION:2.0
PRODID:-//MyWorldCupTime//World Cup 2026//EN
CALSCALE:GREGORIAN
METHOD:PUBLISH
X-WR-CALNAME:World Cup 2026 - Canada
X-WR-TIMEZONE:UTC
REFRESH-INTERVAL;VALUE=DURATION:PT6H
X-PUBLISHED-TTL:PT6H
BEGIN:VEVENT
UID:match-3@myworldcuptime.com
DTSTAMP:20260425T230805Z
DTSTART:20260612T190000Z
DTEND:20260612T210000Z
SUMMARY:Canada vs Bosnia & Herzegovina
DESCRIPTION:World Cup 2026 · Group B · Toronto Stadium\, Toronto\n\nhttps:/
 /myworldcuptime.com/teams/canada.html
LOCATION:Toronto Stadium\, Toronto
URL:https://myworldcuptime.com
STATUS:CONFIRMED
END:VEVENT
BEGIN:VEVENT
UID:match-27@myworldcuptime.com
DTSTAMP:20260425T230805Z
DTSTART:20260618T220000Z
DTEND:20260619T000000Z
SUMMARY:Canada vs Qatar
DESCRIPTION:World Cup 2026 · Group B · BC Place Vancouver\, Vancouver\n\nht
 tps://myworldcuptime.com/teams/canada.html
LOCATION:BC Place Vancouver\, Vancouver
URL:https://myworldcuptime.com
STATUS:CONFIRMED
END:VEVENT
BEGIN:VEVENT
UID:match-49@myworldcuptime.com
DTSTAMP:20260425T230805Z
DTSTART:20260624T190000Z
DTEND:20260624T210000Z
SUMMARY:Switzerland vs Canada
DESCRIPTION:World Cup 2026 · Group B · BC Place Vancouver\, Vancouver\n\nht
 tps://myworldcuptime.com/teams/canada.html
LOCATION:BC Place Vancouver\, Vancouver
URL:https://myworldcuptime.com
STATUS:CONFIRMED
END:VEVENT
END:VCALENDAR
