BEGIN:VCALENDAR
VERSION:2.0
PRODID:-//MyWorldCupTime//World Cup 2026//EN
CALSCALE:GREGORIAN
METHOD:PUBLISH
X-WR-CALNAME:World Cup 2026 - Argentina
X-WR-TIMEZONE:UTC
REFRESH-INTERVAL;VALUE=DURATION:PT6H
X-PUBLISHED-TTL:PT6H
BEGIN:VEVENT
UID:match-19@myworldcuptime.com
DTSTAMP:20260425T230805Z
DTSTART:20260617T010000Z
DTEND:20260617T030000Z
SUMMARY:Argentina vs Algeria
DESCRIPTION:World Cup 2026 · Group J · Kansas City Stadium\, Kansas City\n\
 nhttps://myworldcuptime.com/teams/argentina.html
LOCATION:Kansas City Stadium\, Kansas City
URL:https://myworldcuptime.com
STATUS:CONFIRMED
END:VEVENT
BEGIN:VEVENT
UID:match-41@myworldcuptime.com
DTSTAMP:20260425T230805Z
DTSTART:20260622T170000Z
DTEND:20260622T190000Z
SUMMARY:Argentina vs Austria
DESCRIPTION:World Cup 2026 · Group J · Dallas Stadium\, Dallas\n\nhttps://m
 yworldcuptime.com/teams/argentina.html
LOCATION:Dallas Stadium\, Dallas
URL:https://myworldcuptime.com
STATUS:CONFIRMED
END:VEVENT
BEGIN:VEVENT
UID:match-72@myworldcuptime.com
DTSTAMP:20260425T230805Z
DTSTART:20260628T020000Z
DTEND:20260628T040000Z
SUMMARY:Jordan vs Argentina
DESCRIPTION:World Cup 2026 · Group J · Dallas Stadium\, Dallas\n\nhttps://m
 yworldcuptime.com/teams/argentina.html
LOCATION:Dallas Stadium\, Dallas
URL:https://myworldcuptime.com
STATUS:CONFIRMED
END:VEVENT
END:VCALENDAR
